BEGIN:VCALENDAR
VERSION:2.0
PRODID:-//TEC NEPALESE SOCIETY - ECPv6.15.15//NONSGML v1.0//EN
CALSCALE:GREGORIAN
METHOD:PUBLISH
X-WR-CALNAME:TEC NEPALESE SOCIETY
X-ORIGINAL-URL:https://tecnepalese.org
X-WR-CALDESC:Events for TEC NEPALESE SOCIETY
REFRESH-INTERVAL;VALUE=DURATION:PT1H
X-Robots-Tag:noindex
X-PUBLISHED-TTL:PT1H
BEGIN:VTIMEZONE
TZID:America/New_York
BEGIN:DAYLIGHT
TZOFFSETFROM:-0500
TZOFFSETTO:-0400
TZNAME:EDT
DTSTART:20220313T070000
END:DAYLIGHT
BEGIN:STANDARD
TZOFFSETFROM:-0400
TZOFFSETTO:-0500
TZNAME:EST
DTSTART:20221106T060000
END:STANDARD
BEGIN:DAYLIGHT
TZOFFSETFROM:-0500
TZOFFSETTO:-0400
TZNAME:EDT
DTSTART:20230312T070000
END:DAYLIGHT
BEGIN:STANDARD
TZOFFSETFROM:-0400
TZOFFSETTO:-0500
TZNAME:EST
DTSTART:20231105T060000
END:STANDARD
BEGIN:DAYLIGHT
TZOFFSETFROM:-0500
TZOFFSETTO:-0400
TZNAME:EDT
DTSTART:20240310T070000
END:DAYLIGHT
BEGIN:STANDARD
TZOFFSETFROM:-0400
TZOFFSETTO:-0500
TZNAME:EST
DTSTART:20241103T060000
END:STANDARD
BEGIN:DAYLIGHT
TZOFFSETFROM:-0500
TZOFFSETTO:-0400
TZNAME:EDT
DTSTART:20250309T070000
END:DAYLIGHT
BEGIN:STANDARD
TZOFFSETFROM:-0400
TZOFFSETTO:-0500
TZNAME:EST
DTSTART:20251102T060000
END:STANDARD
BEGIN:DAYLIGHT
TZOFFSETFROM:-0500
TZOFFSETTO:-0400
TZNAME:EDT
DTSTART:20260308T070000
END:DAYLIGHT
BEGIN:STANDARD
TZOFFSETFROM:-0400
TZOFFSETTO:-0500
TZNAME:EST
DTSTART:20261101T060000
END:STANDARD
END:VTIMEZONE
BEGIN:VTIMEZONE
TZID:Europe/London
BEGIN:DAYLIGHT
TZOFFSETFROM:+0000
TZOFFSETTO:+0100
TZNAME:BST
DTSTART:20220327T010000
END:DAYLIGHT
BEGIN:STANDARD
TZOFFSETFROM:+0100
TZOFFSETTO:+0000
TZNAME:GMT
DTSTART:20221030T010000
END:STANDARD
BEGIN:DAYLIGHT
TZOFFSETFROM:+0000
TZOFFSETTO:+0100
TZNAME:BST
DTSTART:20230326T010000
END:DAYLIGHT
BEGIN:STANDARD
TZOFFSETFROM:+0100
TZOFFSETTO:+0000
TZNAME:GMT
DTSTART:20231029T010000
END:STANDARD
BEGIN:DAYLIGHT
TZOFFSETFROM:+0000
TZOFFSETTO:+0100
TZNAME:BST
DTSTART:20240331T010000
END:DAYLIGHT
BEGIN:STANDARD
TZOFFSETFROM:+0100
TZOFFSETTO:+0000
TZNAME:GMT
DTSTART:20241027T010000
END:STANDARD
END:VTIMEZONE
BEGIN:VEVENT
DTSTART;TZID=America/New_York:20250720T090000
DTEND;TZID=America/New_York:20250720T190000
DTSTAMP:20260423T114505
CREATED:20250629T180142Z
LAST-MODIFIED:20250629T180142Z
UID:2182-1753002000-1753038000@tecnepalese.org
SUMMARY:TEC Summer Picnic 2025
DESCRIPTION:TEC summer Picnic 2025 यहि July 20 Sunday का दिन हुदैछ। सबै जना लाई निम्ता छ। बिदा मिलाएर राख्नुहोला ॥ एकदमै रमाईलो हुनेवाला छ।
URL:https://tecnepalese.org/event/tec-summer-picnic-2025/
LOCATION:Patapsco Valley State Park\, 8125 Johnnycake Rd Site # 705\, Windsor Mill\, MD\, 21244\, United States
ATTACH;FMTTYPE=image/jpeg:https://usercontent.one/wp/tecnepalese.org/wp-content/uploads/2025/06/TEC-July-2025-scaled.jpg?media=1664159417
END:VEVENT
BEGIN:VEVENT
DTSTART;VALUE=DATE:20241116
DTEND;VALUE=DATE:20241201
DTSTAMP:20260423T114505
CREATED:20241117T015223Z
LAST-MODIFIED:20241117T015223Z
UID:2141-1731715200-1733011199@tecnepalese.org
SUMMARY:Free Bike and Helmet Giveaway for Kids
DESCRIPTION:Greetings to all\, \nBike and helmet for kids \nWe will be providing free bike and safety helmet for kids those who need. Kids must be age of 0-18 years old. Please fill up the information on the provided form below. If you have more than one kids at household\, please fill up a this form for each kid. Limited quantity of bikes are available so receivers will be selected based upon priority\, need and qualified basis. If you have any questions regarding this program or any questions\, please reach out to TEC President Gyanendra Shrestha at 443-520-5058 or email te****************@***il.com. \nGyanendra Shrestha\nPresident\nTEC Nepalese Society.
URL:https://tecnepalese.org/event/free-bike-and-helmet-giveaway-for-kids/
LOCATION:MD
ATTACH;FMTTYPE=image/png:https://usercontent.one/wp/tecnepalese.org/wp-content/uploads/2024/11/Blue-Modern-Bike-Shop-Instagram-Post.png?media=1664159417
END:VEVENT
BEGIN:VEVENT
DTSTART;TZID=America/New_York:20240824T180000
DTEND;TZID=America/New_York:20240824T233000
DTSTAMP:20260423T114505
CREATED:20240817T184932Z
LAST-MODIFIED:20240817T184932Z
UID:2137-1724522400-1724542200@tecnepalese.org
SUMMARY:Haritalika Teej 2024
DESCRIPTION:हिन्दु  महिलाहरुको महान चाड  हरितालीका  तिज  को अबसर  पारि  “TEC  तिज कार्यक्रम 2081 ” यहि August  24th  शनिवार  का दिन बेलुका  6:00 pm  देखी  Paradise Indian Cuisine @ 1660 Whitehead Ct\, Baltimore\, MD 21207  मा हुने भएको हुदाँ यहा हरु  समूर्ण मा  यस TEC  Nepalese  society हार्दिक निमन्त्रणा  दिन चाहान्छौं   !! \nEntry fee:\nCash at front desk or Zelle to te****************@***il.com\nKids (5-10) : $10.00 / person\nAll others: $30.00/ person \nअनुरोधक :\nTEC Nepalese Society
URL:https://tecnepalese.org/event/haritalika-teej-2024/
LOCATION:Paradise\, 1660 Whitehead Ct\, Baltimore\, MD\, 21207\, United States
ATTACH;FMTTYPE=image/jpeg:https://usercontent.one/wp/tecnepalese.org/wp-content/uploads/2024/08/Tec-teej-2024.jpg?media=1664159417
END:VEVENT
BEGIN:VEVENT
DTSTART;VALUE=DATE:20240630
DTEND;VALUE=DATE:20240701
DTSTAMP:20260423T114505
CREATED:20240331T042502Z
LAST-MODIFIED:20240622T001154Z
UID:2125-1719705600-1719791999@tecnepalese.org
SUMMARY:TEC Summer Picnic 2024
DESCRIPTION:Join us for a delightful day of fun and relaxation at the TEC Summer Picnic 2024! Enjoy live music\, exciting games\, raffles\, kids’ activities\, and much more on Sunday\, June 30th\, creating unforgettable memories with family and friends.
URL:https://tecnepalese.org/event/tec-summer-picnic-2024/
LOCATION:Patapsco Valley State Park\, 8125 Johnnycake Rd Site # 705\, Windsor Mill\, MD\, 21244\, United States
ATTACH;FMTTYPE=image/jpeg:https://usercontent.one/wp/tecnepalese.org/wp-content/uploads/2024/06/Green-and-Orange-Modern-Summer-Barbeque-Party-Flyer.jpeg?media=1664159417
END:VEVENT
BEGIN:VEVENT
DTSTART;VALUE=DATE:20240602
DTEND;VALUE=DATE:20240603
DTSTAMP:20260423T114505
CREATED:20240331T040206Z
LAST-MODIFIED:20240331T172530Z
UID:2114-1717286400-1717372799@tecnepalese.org
SUMMARY:TEC Sports Day 2024
DESCRIPTION:Join us for an exhilarating day of sports and fun at TEC Sports Day\, happening on Sunday\, June 2nd\, 2024\, at Centennial Park. Enjoy a variety of games and activities for all ages in a lively and festive atmosphere!
URL:https://tecnepalese.org/event/tec-sports-day-2024/
LOCATION:Centennial Park\, 10000 Clarksville Pike\, Ellicott City\, MD\, 21042\, United States
ATTACH;FMTTYPE=image/jpeg:https://usercontent.one/wp/tecnepalese.org/wp-content/uploads/2024/03/IMG_1794-1.jpg?media=1664159417
END:VEVENT
BEGIN:VEVENT
DTSTART;TZID=America/New_York:20240412T183000
DTEND;TZID=America/New_York:20240412T183000
DTSTAMP:20260423T114505
CREATED:20240331T041144Z
LAST-MODIFIED:20240331T042103Z
UID:2118-1712946600-1712946600@tecnepalese.org
SUMMARY:Nepali New Year Celebration 2024
DESCRIPTION:Come and rejoice in the spirit of Nepali culture at the Nepali New Year Celebration 2024 on Friday\, April 12\, 2024. Experience a day filled with traditional music\, dance\, authentic cuisine\, and joyful festivities marking the start of the Nepali New Year! Entry Fee is $35 per person for adults and $10 for Kids aged 5-12 years old.
URL:https://tecnepalese.org/event/nepali-new-year-celebration-2024/
LOCATION:Party Hall at Woodlawn\, 1724 Woodlawn Dr Ste-2\, Gwynn Oak\, MD\, 21207\, United States
ATTACH;FMTTYPE=image/jpeg:https://usercontent.one/wp/tecnepalese.org/wp-content/uploads/2024/03/IMG_1716.jpg?media=1664159417
END:VEVENT
BEGIN:VEVENT
DTSTART;TZID=America/New_York:20240103T173000
DTEND;TZID=America/New_York:20240103T193000
DTSTAMP:20260423T114505
CREATED:20231219T055723Z
LAST-MODIFIED:20231219T011822Z
UID:2110-1704303000-1704310200@tecnepalese.org
SUMMARY:Nepali Language Class: Starting 03 Jan\, 2024
DESCRIPTION:नमस्कार\, \n\nहाम्रा बालबालिकाहरुलाई  नेपाली भाषा बोलाई\, सिकाई र लेखाईमा जानकारी  गराउने उदेश्यका साथ यस टीईसी नेपाली समाज ले निकट भविष्यमा संचालन गर्न लागेको नेपाली भाषा कक्षाको लागी दुईजना भाषा शिक्षकको व्यवस्थापन गर्नुपर्ने भएकोले नेपाली भाषा तथा अंग्रेज़ी भाषामा राम्रो दखल राख्नुहुने\, साथै नेपाली भाषा शिक्षणको अनुभब प्राप्त व्यक्तिले हाम्रो कार्यसमितिमा सम्पर्क गर्नुहुन अनुरोध छ ।\n\nनेपाली भाषा कक्षा कम्तिमा हप्ताको एक दिन बेलुका नियमीत बिद्यालय समय पछी १:०० वा १:३० घण्टा संचालन हुनेछ ।भाषा शिक्षण गर्न इच्छुक महानुभावले सोही अनुसार समय ब्यबस्थापन गर्नु पर्ने छ । हाम्रै समाजका अविभावक हरु मध्यबाट शिक्षक शिक्षिका उपलब्ध भयको खण्डमा नेपालि भाषा कक्षा संचालन अझ प्रभावकारी\, उपलब्धी मूलक र दिगो हुनेछ भन्ने विश्वास लिएका छौ।  साना साना बालबालीकाहरुसंग प्रत्यक्ष सम्पर्कमा हुने भएको हुदा यो एउटा महत्वपूर्ण सामाजिक कार्य पनि हो । भाषा शिक्षकको पारिश्रमिक  र  भाषा कक्षा शुल्क यहॉहरुको सुझाव र सरसल्लाहको आधारमा पछि तोकिने छ ।\n\nसाथै यस नेपाली भाषा कक्षामा आफ्ना छोराछोरी लाई सामेल गराउन चाहनु हुने अविभावक‌ले  यस संस्थाका महासचिव केशव ढकाल लाई फोननम्बर 410-209-7485 (text only) मा सम्पर्क गरी आफ्नो स्थान सुरक्षित गर्नु पर्ने छ ।\n\nभाषा कक्षा संचालन हुने स्थान:-\nWoodbridge Elementary school\nAddress: 1410 pleasant valley Dr. Catonsville\, MD 21228\nकक्षा संचालन: जनवरी ३\, २०२४ प्रत्येक बुधवार ( BCPS को school calendar rule follow गरिनेछ )\nसमय: बेलुका ५:३० देखी ७:३० सम्म
URL:https://tecnepalese.org/event/nepali-language-class-starting-03-jan-2024/
LOCATION:Woodbridge Elementary School\, 1410 pleasant valley Dr.\, Catonsville\, MD\, 21228\, United States
END:VEVENT
BEGIN:VEVENT
DTSTART;TZID=Europe/London:20231022T090000
DTEND;TZID=Europe/London:20231022T113000
DTSTAMP:20260423T114505
CREATED:20231016T215850Z
LAST-MODIFIED:20231016T220132Z
UID:2098-1697965200-1697974200@tecnepalese.org
SUMMARY: बिजया दशमिको  अबसर पारि शुभकामना आदानप्रदान
DESCRIPTION:सबैमा नमस्कार !! \nयस TEC Nepalese  Society ले यसैवर्षको  नेपालीहरुको महान चाड   तथा भेटघाट गर्ने  उदेश्यले October 22\, 2023 Sunday  का दिन  निम्न  स्थान र समयमा दशैं  शुभकामना आदानप्रदान  कार्यक्रम  राखेको   हूँदा  यहाँहरु सबैमा  उपस्थिति तथा सहभागीता को लागी निमन्त्रणा गर्न चाहन्छौ। कार्यक्रममा शुभकामना आदानप्रदान को साथमा बिभीन्न खेलको आयोजना गरीनेछ ।\nथप जानकारीको लागी संस्थाका उपाध्यक्ष तथा कार्यक्रमका संयोजक श्री नारायण सिंह गुरूङ ज्यू लाई  phones number 443-985-7806 मा सम्पर्क गर्नुहुन अनुरोध गर्दछौ। \nसमयः October 22\, 2023  9:00 AM  – 11:30AM\nस्थानः Centennial Park\n10000 Clarksville Pike\, Ellicott City\, MD 21042 \nNote: This program will be depending on weather in open park area. Please wear appropriate clothes for outside weather. \nThank you\,\nTEC Nepalese Society
URL:https://tecnepalese.org/event/%e0%a4%ac%e0%a4%bf%e0%a4%9c%e0%a4%af%e0%a4%be-%e0%a4%a6%e0%a4%b6%e0%a4%ae%e0%a4%bf%e0%a4%95%e0%a5%8b-%e0%a4%85%e0%a4%ac%e0%a4%b8%e0%a4%b0-%e0%a4%aa%e0%a4%be%e0%a4%b0%e0%a4%bf/
LOCATION:Centennial Park\, 10000 Clarksville Pike\, Ellicott City\, MD\, 21042\, United States
ATTACH;FMTTYPE=image/png:https://usercontent.one/wp/tecnepalese.org/wp-content/uploads/2023/10/DashainTEC.png?media=1664159417
END:VEVENT
BEGIN:VEVENT
DTSTART;TZID=America/New_York:20230916T180000
DTEND;TZID=America/New_York:20230916T230000
DTSTAMP:20260423T114505
CREATED:20230327T080310Z
LAST-MODIFIED:20230909T120623Z
UID:1802-1694887200-1694905200@tecnepalese.org
SUMMARY:TEC 2023 Teej Celebration
DESCRIPTION:सबैमा  नमस्कार । \nयस  TEC  Nepalese Society ले आयोजना गर्न लागेको  TEC Nepalese TEEJ  2023  कार्यक्रम  बिषेश  कारणवश  Sept. 9th  Saturday वाट September 16th Saturday को दिन निम्न स्थान र  समय मा सारिएको  छ। यहाँहरु  प्रति पर्न गएको असुबिधा प्रति  हामि क्षमा  याचना  गर्दछौँ  र सम्पूर्ण  हजुरहरु प्रति  निमन्त्रणा दिन चाहान्छौ।  आउनुहोस सबै मिलीजुलि  २०२३ को तिज रमाइलो  गरि  मनाऔं। \nDate: September  16th Saturday 2023\nTime : 6: 00 PM  –  11:00 PM\nAddress: 1660 Whitehead Ct\, Baltimore\, MD 21207 मा राखिएको छ। \nEntry  Fee per person:\n$25.00 (TEC Life member family including 10 years and above)\n$ 35.00  (TEC non  life member )\n$ 10:00 (between 5-9 years )
URL:https://tecnepalese.org/event/tec-2023-teej-celebration/
LOCATION:Paradise\, 1660 Whitehead Ct\, Baltimore\, MD\, 21207\, United States
ATTACH;FMTTYPE=image/png:https://usercontent.one/wp/tecnepalese.org/wp-content/uploads/2023/03/IMG_0921.png?media=1664159417
END:VEVENT
BEGIN:VEVENT
DTSTART;VALUE=DATE:20230709
DTEND;VALUE=DATE:20230710
DTSTAMP:20260423T114505
CREATED:20230327T080104Z
LAST-MODIFIED:20230610T071530Z
UID:1797-1688860800-1688947199@tecnepalese.org
SUMMARY:TEC Summer Picnic
DESCRIPTION:TEC Nepalese society will be hosting summer picnic program on Sunday\, July 9 2023. Since the general meeting of this organization is also held on that day\, we invite the lifetime members of the organization to attend. \n\nSpecial sports materials have been arranged for the children in the program\nThe program will be organized throughout the day with dancing\, barbecue\, lunch and dinner.\nEntry Fee: $25.00 per person for TEC Life Members\n$35.00 per person for non-members\nChildren under the age of 10 are free)\n\nDate: Sunday July 9\, 2023\nLocation: Patapsco Valley State Park-Pickall Area (#5)\nTime : 10:00 am to Sunset\nAddress: 8125 Johnnycake Rd Windsor Mill\, MD 21244 \nProgram Coordinator – Kamana Panthi \nTEC Nepalese society को आयोजना मा सदाका बर्षहरुमा जस्तै यस बर्ष पनि July 9 तारीक आइतबार को दिन समर पिकनिक को कार्यक्रम हुन गई रहेको छ । साथै उक्त दिन यस संस्थाको साधारण सभा पनि राखिएकोले संस्थाका आजिबन सदस्यहरुलाई उपस्थितीको लागी निमन्त्रणा गर्दछौ।  \nकार्यक्रममा बाल बालिका हरुको लागी विशेष खेल सामाग्री को ब्यबस्था गरिएको छ | \nकार्यक्रम दिनभर नाचगान\, Barbecue\, खाजा नास्ता सहित डिनरको ब्यबस्था हुनेछ।  \nप्रवेश शुल्कः TEC Life Member को लागी $25.00 per person \nNon-member को लागी $35.00 per person \n(children under age of 10 are Free) \nDate : Sunday July 9\, 2023 \nस्थान: Patapsco Valley State Park-Pickall Area (#5) \nTime : 10:00 am to Sunset  \nAddress: 8125 Johnnycake Rd Windsor Mill\, MD 21244 \nकार्यक्रम संयोजक  \nकामना पन्थी अधिकारी \nतथा समस्त TEC Nepalese Society परिवार
URL:https://tecnepalese.org/event/tec-summer-picnic/
LOCATION:Patapsco Valley State Park\, 8125 Johnnycake Rd Site # 705\, Windsor Mill\, MD\, 21244\, United States
ATTACH;FMTTYPE=image/jpeg:https://usercontent.one/wp/tecnepalese.org/wp-content/uploads/2023/03/IMG_3238.jpg?media=1664159417
END:VEVENT
BEGIN:VEVENT
DTSTART;VALUE=DATE:20230604
DTEND;VALUE=DATE:20230605
DTSTAMP:20260423T114505
CREATED:20230327T074621Z
LAST-MODIFIED:20230528T232424Z
UID:1794-1685836800-1685923199@tecnepalese.org
SUMMARY:TEC Sports Day
DESCRIPTION:On June 4th 2023\, Sunday\, TEC Nepalese society is going to organize TEC Sports Day. We invite everyone to participate in the event as there will be a marathon in Howard county’s centennial park on that day. For more information about the program and registration\, please contact the program coordinator Mr. Deepak Basnet – (443) 802-2202. \nNote: Each participant must sign the waiver form. \nयहि June 4th 2023 sunday का दिन  TEC Nepalese society ले TEC Sports Day को कार्यक्रम आयोजना गर्ने भएको छ। उक्त दिन Howard county को centennial park मा Marathon गर्ने भएकोले उक्त कार्यक्रम मा सहभागी हुन सम्पूर्ण लाई आब्हान गर्दछौ। कार्यक्रम सम्बन्धी थप जानकारी तथा Registration को लागी कार्यक्रम संयोजक दिपक बस्नेत ज्यू लाई सम्पर्क गर्नुहोला । (443) 802-2202 \nNote: प्रत्यक participants ले waiver form मा अनिवार्य signature गर्नुपर्नेछ।  \n 
URL:https://tecnepalese.org/event/tec-sports-day/
LOCATION:Centennial Park\, 10000 Clarksville Pike\, Ellicott City\, MD\, 21042\, United States
END:VEVENT
BEGIN:VEVENT
DTSTART;VALUE=DATE:20230430
DTEND;VALUE=DATE:20230502
DTSTAMP:20260423T114505
CREATED:20230327T073712Z
LAST-MODIFIED:20230327T073744Z
UID:1789-1682812800-1682985599@tecnepalese.org
SUMMARY:Spring Break - Kids Friendly Program
DESCRIPTION:Date is not fixed yet\, but tentatively will be in April- May time frame. Contact Kamana Panthi Adhikari for more details (443) 985-4563
URL:https://tecnepalese.org/event/spring-break-kids-friendly-program/
LOCATION:Centennial Park\, 10000 Clarksville Pike\, Ellicott City\, MD\, 21042\, United States
ATTACH;FMTTYPE=image/jpeg:https://usercontent.one/wp/tecnepalese.org/wp-content/uploads/2022/09/226367380_4681595238538257_2705615088738207160_n.jpg?media=1664159417
END:VEVENT
END:VCALENDAR